Workbook

Sheet Field Leaders
A1: Name | B1: Team | C1: GP | D1: Goals | E1: G/G | G1: Name | H1: Team | I1: GP | J1: Assists | K1: A/G | M1: Name | N1: Team | O1: GP | P1: Steals | Q1: S/G
A2: ='Coast Field'!A32 -> Sasha Lazzerereschi | B2: ='Coast Field'!B32 -> LPC | C2: ='Los Positas'!D10 -> 15 | D2: ='Los Positas'!E10 -> 57 | E2: =D2/C2 -> 3.8 | G2: ='Coast Field'!A25 -> Jeremy Usedom | H2: ='Coast Field'!B25 -> LPC | I2: ='Coast Field'!C25 -> 14 | J2: ='Coast Field'!E25 -> 25 | K2: =J2/I2 -> 1.7857143 | M2: ='Coast Field'!A31 -> Cam Bushehry | N2: ='Coast Field'!B31 -> LPC | O2: ='Los Positas'!D9 -> 11 | P2: ='Coast Field'!F32 -> 19 | Q2: =P2/O2 -> 1.7272727
A3: ='Coast Field'!A25 -> Jeremy Usedom | B3: ='Coast Field'!B25 -> LPC | C3: ='Los Positas'!D3 -> 14 | D3: ='Los Positas'!E3 -> 39 | E3: =D3/C3 -> 2.7857143 | G3: ='Coast Field'!A39 -> Andrew Long Kettenhofen | H3: ='Coast Field'!B39 -> LPC | I3: ='Coast Field'!C39 -> 14 | J3: ='Coast Field'!E39 -> 19 | K3: =J3/I3 -> 1.3571429 | M3: ='Coast Field'!A15 -> Kelbr, Preston | N3: ='Coast Field'!B15 -> OHLON | O3: ='Coast Field'!C15 -> 5 | P3: ='Coast Field'!F15 -> 10 | Q3: =P3/O3 -> 2
A4: ='Coast Field'!A17 -> Carscadden, Wyatt | B4: ='Coast Field'!B17 -> OHLON | C4: ='Coast Field'!C17 -> 4 | D4: ='Coast Field'!D17 -> 38 | E4: =D4/C4 -> 9.5 | G4: ='Coast Field'!A40 -> Cole Melloch | H4: ='Coast Field'!B40 -> LPC | I4: ='Coast Field'!C40 -> 15 | J4: ='Coast Field'!E40 -> 17 | K4: =J4/I4 -> 1.1333333 | M4: ='Coast Field'!A17 -> Carscadden, Wyatt | N4: ='Coast Field'!B17 -> OHLON | O4: ='Coast Field'!C17 -> 4 | P4: ='Coast Field'!F17 -> 9 | Q4: =P4/O4 -> 2.25
A5: ='Coast Field'!A40 -> Cole Melloch | B5: ='Coast Field'!B40 -> LPC | C5: ='Los Positas'!D18 -> 14 | D5: ='Los Positas'!E18 -> 28 | E5: =D5/C5 -> 2 | G5: ='Coast Field'!A17 -> Carscadden, Wyatt | H5: ='Coast Field'!B17 -> OHLON | I5: ='Coast Field'!C17 -> 4 | J5: ='Coast Field'!E17 -> 12 | K5: =J5/I5 -> 3 | M5: ='Coast Field'!A23 -> Lucchesi, Matt | N5: ='Coast Field'!B23 -> OHLON | O5: ='Coast Field'!C23 -> 5 | P5: ='Coast Field'!F23 -> 9 | Q5: =P5/O5 -> 1.8
A6: ='Coast Field'!A27 -> Chris Buckman | B6: ='Coast Field'!B27 -> LPC | C6: ='Los Positas'!D5 -> 14 | D6: ='Los Positas'!E5 -> 21 | E6: =D6/C6 -> 1.5 | G6: ='Coast Field'!A3 -> Mitchell Moreda | H6: ='Coast Field'!B3 -> MJC | I6: ='Coast Field'!C3 -> 5 | J6: ='Coast Field'!E3 -> 9 | K6: =J6/I6 -> 1.8 | M6: ='Coast Field'!A4 -> Kyle Swisegood | N6: ='Coast Field'!B4 -> MJC | O6: ='Coast Field'!C4 -> 5 | P6: ='Coast Field'!F4 -> 8 | Q6: =P6/O6 -> 1.6
A7: ='Coast Field'!A5 -> Blake Philips | B7: ='Coast Field'!B5 -> MJC | C7: ='Coast Field'!C5 -> 5 | D7: ='Coast Field'!D5 -> 18 | E7: =D7/C7 -> 3.6 | G7: ='Coast Field'!A27 -> Chris Buckman | H7: ='Coast Field'!B27 -> LPC | I7: ='Coast Field'!C27 -> 14 | J7: ='Coast Field'!E27 -> 7 | K7: =J7/I7 -> 0.5 | M7: ='Coast Field'!A7 -> Kody Kamastra | N7: ='Coast Field'!B7 -> MJC | O7: ='Coast Field'!C7 -> 5 | P7: ='Coast Field'!F7 -> 8 | Q7: =P7/O7 -> 1.6
A8: ='Coast Field'!A24 -> Haley, Austin | B8: ='Coast Field'!B24 -> OHLON | C8: ='Coast Field'!C24 -> 5 | D8: ='Coast Field'!D24 -> 18 | E8: =D8/C8 -> 3.6 | G8: ='Coast Field'!A7 -> Kody Kamastra | H8: ='Coast Field'!B7 -> MJC | I8: ='Coast Field'!C7 -> 5 | J8: ='Coast Field'!E7 -> 6 | K8: =J8/I8 -> 1.2 | M8: ='Coast Field'!A3 -> Mitchell Moreda | N8: ='Coast Field'!B3 -> MJC | O8: ='Coast Field'!C3 -> 5 | P8: ='Coast Field'!F3 -> 6 | Q8: =P8/O8 -> 1.2
A9: ='Coast Field'!A3 -> Mitchell Moreda | B9: ='Coast Field'!B3 -> MJC | C9: ='Coast Field'!C3 -> 5 | D9: ='Coast Field'!D3 -> 11 | E9: =D9/C9 -> 2.2 | G9: ='Coast Field'!A32 -> Sasha Lazzerereschi | H9: ='Coast Field'!B32 -> LPC | I9: ='Coast Field'!C32 -> 15 | J9: ='Coast Field'!E32 -> 6 | K9: =J9/I9 -> 0.4 | M9: ='Coast Field'!A38 -> Carlos Moreno | N9: ='Coast Field'!B38 -> LPC | O9: ='Los Positas'!D16 -> 15 | P9: ='Coast Field'!F39 -> 6 | Q9: =P9/O9 -> 0.4
A10: ='Coast Field'!A21 -> Bock, Brian | B10: ='Coast Field'!B21 -> OHLON | C10: ='Coast Field'!C21 -> 5 | D10: ='Coast Field'!D21 -> 11 | E10: =D10/C10 -> 2.2 | G10: ='Coast Field'!A9 -> Matt Cadrett | H10: ='Coast Field'!B9 -> MJC | I10: ='Coast Field'!C9 -> 5 | J10: ='Coast Field'!E9 -> 5 | K10: =J10/I10 -> 1 | M10: ='Coast Field'!A24 -> Haley, Austin | N10: ='Coast Field'!B24 -> OHLON | O10: ='Coast Field'!C24 -> 5 | P10: ='Coast Field'!F24 -> 5 | Q10: =P10/O10 -> 1
A11: ='Coast Field'!A2 -> Chad Nunes | B11: ='Coast Field'!B2 -> MJC | C11: ='Coast Field'!C2 -> 5 | D11: ='Coast Field'!D2 -> 10 | E11: =D11/C11 -> 2 | G11: ='Coast Field'!A16 -> Sadat, Walid | H11: ='Coast Field'!B16 -> OHLON | I11: ='Coast Field'!C16 -> 1 | J11: ='Coast Field'!E16 -> 3 | K11: =J11/I11 -> 3 | M11: ='Coast Field'!A2 -> Chad Nunes | N11: ='Coast Field'!B2 -> MJC | O11: ='Coast Field'!C2 -> 5 | P11: ='Coast Field'!F2 -> 4 | Q11: =P11/O11 -> 0.8
A12: ='Coast Field'!A23 -> Lucchesi, Matt | B12: ='Coast Field'!B23 -> OHLON | C12: ='Coast Field'!C23 -> 5 | D12: ='Coast Field'!D23 -> 10 | E12: =D12/C12 -> 2 | G12: ='Coast Field'!A24 -> Haley, Austin | H12: ='Coast Field'!B24 -> OHLON | I12: ='Coast Field'!C24 -> 5 | J12: ='Coast Field'!E24 -> 3 | K12: =J12/I12 -> 0.6 | M12: ='Coast Field'!A22 -> Dayal, Rahul | N12: ='Coast Field'!B22 -> OHLON | O12: ='Coast Field'!C22 -> 5 | P12: ='Coast Field'!F22 -> 4 | Q12: =P12/O12 -> 0.8
A13: ='Coast Field'!A16 -> Sadat, Walid | B13: ='Coast Field'!B16 -> OHLON | C13: ='Coast Field'!C16 -> 1 | D13: ='Coast Field'!D16 -> 9 | E13: =D13/C13 -> 9 | G13: ='Coast Field'!A36 -> Pasquale D'Onofrio | H13: ='Coast Field'!B36 -> LPC | I13: ='Coast Field'!C36 -> 15 | J13: ='Coast Field'!E36 -> 3 | K13: =J13/I13 -> 0.2 | M13: ='Coast Field'!A37 -> Ryan Hobbs | N13: ='Coast Field'!B37 -> LPC | O13: ='Los Positas'!D15 -> 12 | P13: ='Coast Field'!F38 -> 4 | Q13: =P13/O13 -> 0.33333333
A14: ='Coast Field'!A37 -> Ryan Hobbs | B14: ='Coast Field'!B37 -> LPC | C14: ='Los Positas'!D15 -> 12 | D14: ='Los Positas'!E15 -> 9 | E14: =D14/C14 -> 0.75 | G14: ='Coast Field'!A2 -> Chad Nunes | H14: ='Coast Field'!B2 -> MJC | I14: ='Coast Field'!C2 -> 5 | J14: ='Coast Field'!E2 -> 2 | K14: =J14/I14 -> 0.4 | M14: ='Coast Field'!A13 -> Marcelino Ramirez | N14: ='Coast Field'!B13 -> MJC | O14: ='Coast Field'!C13 -> 5 | P14: ='Coast Field'!F13 -> 3 | Q14: =P14/O14 -> 0.6
A15: ='Coast Field'!A6 -> CJ Cossey | B15: ='Coast Field'!B6 -> MJC | C15: ='Coast Field'!C6 -> 5 | D15: ='Coast Field'!D6 -> 6 | E15: =D15/C15 -> 1.2 | G15: ='Coast Field'!A4 -> Kyle Swisegood | H15: ='Coast Field'!B4 -> MJC | I15: ='Coast Field'!C4 -> 5 | J15: ='Coast Field'!E4 -> 2 | K15: =J15/I15 -> 0.4 | M15: ='Coast Field'!A19 -> Carrerio, Carlos | N15: ='Coast Field'!B19 -> OHLON | O15: ='Coast Field'!C19 -> 4 | P15: ='Coast Field'!F19 -> 3 | Q15: =P15/O15 -> 0.75
A16: ='Coast Field'!A28 -> Jared Benge | B16: ='Coast Field'!B28 -> LPC | C16: ='Los Positas'!D6 -> 12 | D16: ='Los Positas'!E6 -> 6 | E16: =D16/C16 -> 0.5 | G16: ='Coast Field'!A5 -> Blake Philips | H16: ='Coast Field'!B5 -> MJC | I16: ='Coast Field'!C5 -> 5 | J16: ='Coast Field'!E5 -> 2 | K16: =J16/I16 -> 0.4 | M16: ='Coast Field'!A5 -> Blake Philips | N16: ='Coast Field'!B5 -> MJC | O16: ='Coast Field'!C5 -> 5 | P16: ='Coast Field'!F5 -> 2 | Q16: =P16/O16 -> 0.4
A17: ='Coast Field'!A7 -> Kody Kamastra | B17: ='Coast Field'!B7 -> MJC | C17: ='Coast Field'!C7 -> 5 | D17: ='Coast Field'!D7 -> 5 | E17: =D17/C17 -> 1 | G17: ='Coast Field'!A13 -> Marcelino Ramirez | H17: ='Coast Field'!B13 -> MJC | I17: ='Coast Field'!C13 -> 5 | J17: ='Coast Field'!E13 -> 2 | K17: =J17/I17 -> 0.4 | M17: ='Coast Field'!A20 -> Correa, Eric | N17: ='Coast Field'!B20 -> OHLON | O17: ='Coast Field'!C20 -> 5 | P17: ='Coast Field'!F20 -> 2 | Q17: =P17/O17 -> 0.4
A18: ='Coast Field'!A15 -> Kelbr, Preston | B18: ='Coast Field'!B15 -> OHLON | C18: ='Coast Field'!C15 -> 5 | D18: ='Coast Field'!D15 -> 4 | E18: =D18/C18 -> 0.8 | G18: ='Coast Field'!A15 -> Kelbr, Preston | H18: ='Coast Field'!B15 -> OHLON | I18: ='Coast Field'!C15 -> 5 | J18: ='Coast Field'!E15 -> 2 | K18: =J18/I18 -> 0.4 | M18: ='Coast Field'!A28 -> Jared Benge | N18: ='Coast Field'!B28 -> LPC | O18: ='Los Positas'!D6 -> 12 | P18: ='Coast Field'!F29 -> 2 | Q18: =P18/O18 -> 0.16666667
A19: ='Coast Field'!A9 -> Matt Cadrett | B19: ='Coast Field'!B9 -> MJC | C19: ='Coast Field'!C9 -> 5 | D19: ='Coast Field'!D9 -> 3 | E19: =D19/C19 -> 0.6 | G19: ='Coast Field'!A22 -> Dayal, Rahul | H19: ='Coast Field'!B22 -> OHLON | I19: ='Coast Field'!C22 -> 5 | J19: ='Coast Field'!E22 -> 2 | K19: =J19/I19 -> 0.4 | M19: ='Coast Field'!A8 -> Mike Fuzie | N19: ='Coast Field'!B8 -> MJC | O19: ='Coast Field'!C8 -> 5 | P19: ='Coast Field'!F8 -> 1 | Q19: =P19/O19 -> 0.2
A20: ='Coast Field'!A19 -> Carrerio, Carlos | B20: ='Coast Field'!B19 -> OHLON | C20: ='Coast Field'!C19 -> 4 | D20: ='Coast Field'!D19 -> 3 | E20: =D20/C20 -> 0.75 | G20: ='Coast Field'!A28 -> Jared Benge | H20: ='Coast Field'!B28 -> LPC | I20: ='Coast Field'!C28 -> 12 | J20: ='Coast Field'!E28 -> 2 | K20: =J20/I20 -> 0.16666667 | M20: ='Coast Field'!A9 -> Matt Cadrett | N20: ='Coast Field'!B9 -> MJC | O20: ='Coast Field'!C9 -> 5 | P20: ='Coast Field'!F9 -> 1 | Q20: =P20/O20 -> 0.2
A21: ='Coast Field'!A36 -> Pasquale D'Onofrio | B21: ='Coast Field'!B36 -> LPC | C21: ='Los Positas'!D14 -> 15 | D21: ='Los Positas'!E14 -> 3 | E21: =D21/C21 -> 0.2 | G21: ='Coast Field'!A29 -> Ryan Hogue | H21: ='Coast Field'!B29 -> LPC | I21: ='Coast Field'!C29 -> 15 | J21: ='Coast Field'!E29 -> 2 | K21: =J21/I21 -> 0.13333333 | M21: ='Coast Field'!A10 -> Luis Rodriguez | N21: ='Coast Field'!B10 -> MJC | O21: ='Coast Field'!C10 -> 5 | P21: ='Coast Field'!F10 -> 1 | Q21: =P21/O21 -> 0.2
A22: ='Coast Field'!A20 -> Correa, Eric | B22: ='Coast Field'!B20 -> OHLON | C22: ='Coast Field'!C20 -> 5 | D22: ='Coast Field'!D20 -> 2 | E22: =D22/C22 -> 0.4 | G22: ='Coast Field'!A38 -> Carlos Moreno | H22: ='Coast Field'!B38 -> LPC | I22: ='Coast Field'!C38 -> 15 | J22: ='Coast Field'!E38 -> 2 | K22: =J22/I22 -> 0.13333333 | M22: ='Coast Field'!A11 -> Cameron Sondeno | N22: ='Coast Field'!B11 -> MJC | O22: ='Coast Field'!C11 -> 5 | P22: ='Coast Field'!F11 -> 1 | Q22: =P22/O22 -> 0.2
A23: ='Coast Field'!A35 -> Stephen Redman | B23: ='Coast Field'!B35 -> LPC | C23: ='Los Positas'!D13 -> 13 | D23: ='Los Positas'!E13 -> 2 | E23: =D23/C23 -> 0.15384615 | G23: ='Coast Field'!A8 -> Mike Fuzie | H23: ='Coast Field'!B8 -> MJC | I23: ='Coast Field'!C8 -> 5 | J23: ='Coast Field'!E8 -> 1 | K23: =J23/I23 -> 0.2 | M23: ='Coast Field'!A21 -> Bock, Brian | N23: ='Coast Field'!B21 -> OHLON | O23: ='Coast Field'!C21 -> 5 | P23: ='Coast Field'!F21 -> 1 | Q23: =P23/O23 -> 0.2
A24: ='Coast Field'!A38 -> Carlos Moreno | B24: ='Coast Field'!B38 -> LPC | C24: ='Los Positas'!D16 -> 15 | D24: ='Los Positas'!E16 -> 2 | E24: =D24/C24 -> 0.13333333 | G24: ='Coast Field'!A10 -> Luis Rodriguez | H24: ='Coast Field'!B10 -> MJC | I24: ='Coast Field'!C10 -> 5 | J24: ='Coast Field'!E10 -> 1 | K24: =J24/I24 -> 0.2 | M24: ='Coast Field'!A26 -> Max Federle (Also 1-A) | N24: ='Coast Field'!B26 -> LPC | O24: ='Los Positas'!D4 -> 8 | P24: ='Coast Field'!F27 -> 1 | Q24: =P24/O24 -> 0.125
A25: ='Coast Field'!A4 -> Kyle Swisegood | B25: ='Coast Field'!B4 -> MJC | C25: ='Coast Field'!C4 -> 5 | D25: ='Coast Field'!D4 -> 1 | E25: =D25/C25 -> 0.2 | G25: ='Coast Field'!A19 -> Carrerio, Carlos | H25: ='Coast Field'!B19 -> OHLON | I25: ='Coast Field'!C19 -> 4 | J25: ='Coast Field'!E19 -> 1 | K25: =J25/I25 -> 0.25 | M25: ='Coast Field'!A32 -> Sasha Lazzerereschi | N25: ='Coast Field'!B32 -> LPC | O25: ='Los Positas'!D10 -> 15 | P25: ='Coast Field'!F33 -> 1 | Q25: =P25/O25 -> 0.066666667
A26: ='Coast Field'!A11 -> Cameron Sondeno | B26: ='Coast Field'!B11 -> MJC | C26: ='Coast Field'!C11 -> 5 | D26: ='Coast Field'!D11 -> 1 | E26: =D26/C26 -> 0.2 | G26: ='Coast Field'!A23 -> Lucchesi, Matt | H26: ='Coast Field'!B23 -> OHLON | I26: ='Coast Field'!C23 -> 5 | J26: ='Coast Field'!E23 -> 1 | K26: =J26/I26 -> 0.2 | M26: ='Coast Field'!A35 -> Stephen Redman | N26: ='Coast Field'!B35 -> LPC | O26: ='Los Positas'!D13 -> 13 | P26: ='Coast Field'!F36 -> 1 | Q26: =P26/O26 -> 0.076923077
A27: ='Coast Field'!A13 -> Marcelino Ramirez | B27: ='Coast Field'!B13 -> MJC | C27: ='Coast Field'!C13 -> 5 | D27: ='Coast Field'!D13 -> 1 | E27: =D27/C27 -> 0.2 | G27: ='Coast Field'!A26 -> Max Federle (Also 1-A) | H27: ='Coast Field'!B26 -> LPC | I27: ='Coast Field'!C26 -> 8 | J27: ='Coast Field'!E26 -> 1 | K27: =J27/I27 -> 0.125 | M27: ='Coast Field'!A39 -> Andrew Long Kettenhofen | N27: ='Coast Field'!B39 -> LPC | O27: ='Los Positas'!D17 -> 0 | P27: ='Coast Field'!F40 -> 1 | Q27: =P27/O27 -> #DIV/0!
A28: ='Coast Field'!A22 -> Dayal, Rahul | B28: ='Coast Field'!B22 -> OHLON | C28: ='Coast Field'!C22 -> 5 | D28: ='Coast Field'!D22 -> 1 | E28: =D28/C28 -> 0.2 | G28: ='Coast Field'!A35 -> Stephen Redman | H28: ='Coast Field'!B35 -> LPC | I28: ='Coast Field'!C35 -> 13 | J28: ='Coast Field'!E35 -> 1 | K28: =J28/I28 -> 0.076923077 | M28: ='Coast Field'!A6 -> CJ Cossey | N28: ='Coast Field'!B6 -> MJC | O28: ='Coast Field'!C6 -> 5 | P28: ='Coast Field'!F6 -> 0 | Q28: =P28/O28 -> 0
A29: ='Coast Field'!A29 -> Ryan Hogue | B29: ='Coast Field'!B29 -> LPC | C29: ='Los Positas'!D7 -> 15 | D29: ='Los Positas'!E7 -> 1 | E29: =D29/C29 -> 0.066666667 | G29: ='Coast Field'!A37 -> Ryan Hobbs | H29: ='Coast Field'!B37 -> LPC | I29: ='Coast Field'!C37 -> 12 | J29: ='Coast Field'!E37 -> 1 | K29: =J29/I29 -> 0.083333333 | M29: ='Coast Field'!A12 -> Tyler Tuss | N29: ='Coast Field'!B12 -> MJC | O29: ='Coast Field'!C12 -> 5 | P29: ='Coast Field'!F12 -> 0 | Q29: =P29/O29 -> 0
A30: ='Coast Field'!A33 -> Liam McDonald | B30: ='Coast Field'!B33 -> LPC | C30: ='Los Positas'!D11 -> 10 | D30: ='Los Positas'!E11 -> 1 | E30: =D30/C30 -> 0.1 | G30: ='Coast Field'!A31 -> Cam Bushehry | H30: ='Coast Field'!B31 -> LPC | I30: ='Coast Field'!C31 -> 11 | J30: ='Coast Field'!E31 -> 1 | K30: =J30/I30 -> 0.090909091 | M30: ='Coast Field'!A14 -> Austin Mejias | N30: ='Coast Field'!B14 -> MJC | O30: ='Coast Field'!C14 -> 5 | P30: ='Coast Field'!F14 -> 0 | Q30: =P30/O30 -> 0
A31: ='Coast Field'!A34 -> Erik Lundeen | B31: ='Coast Field'!B34 -> LPC | C31: ='Los Positas'!D12 -> 11 | D31: ='Los Positas'!E12 -> 1 | E31: =D31/C31 -> 0.090909091 | G31: ='Coast Field'!A33 -> Liam McDonald | H31: ='Coast Field'!B33 -> LPC | I31: ='Coast Field'!C33 -> 10 | J31: ='Coast Field'!E33 -> 1 | K31: =J31/I31 -> 0.1 | M31: ='Coast Field'!A16 -> Sadat, Walid | N31: ='Coast Field'!B16 -> OHLON | O31: ='Coast Field'!C16 -> 1 | P31: ='Coast Field'!F16 -> 0 | Q31: =P31/O31 -> 0
A32: ='Coast Field'!A8 -> Mike Fuzie | B32: ='Coast Field'!B8 -> MJC | C32: ='Coast Field'!C8 -> 5 | D32: ='Coast Field'!D8 -> 0 | E32: =D32/C32 -> 0 | G32: ='Coast Field'!A34 -> Erik Lundeen | H32: ='Coast Field'!B34 -> LPC | I32: ='Coast Field'!C34 -> 11 | J32: ='Coast Field'!E34 -> 1 | K32: =J32/I32 -> 0.090909091 | M32: ='Coast Field'!A18 -> Macias, Alejandro | N32: ='Coast Field'!B18 -> OHLON | O32: ='Coast Field'!C18 -> 0 | P32: ='Coast Field'!F18 -> 0 | Q32: =P32/O32 -> #DIV/0!
A33: ='Coast Field'!A10 -> Luis Rodriguez | B33: ='Coast Field'!B10 -> MJC | C33: ='Coast Field'!C10 -> 5 | D33: ='Coast Field'!D10 -> 0 | E33: =D33/C33 -> 0 | G33: ='Coast Field'!A6 -> CJ Cossey | H33: ='Coast Field'!B6 -> MJC | I33: ='Coast Field'!C6 -> 5 | J33: ='Coast Field'!E6 -> 0 | K33: =J33/I33 -> 0 | M33: ='Coast Field'!A25 -> Jeremy Usedom | N33: ='Coast Field'!B25 -> LPC | O33: ='Los Positas'!D3 -> 14 | P33: ='Coast Field'!F26 -> 0 | Q33: =P33/O33 -> 0
A34: ='Coast Field'!A12 -> Tyler Tuss | B34: ='Coast Field'!B12 -> MJC | C34: ='Coast Field'!C12 -> 5 | D34: ='Coast Field'!D12 -> 0 | E34: =D34/C34 -> 0 | G34: ='Coast Field'!A11 -> Cameron Sondeno | H34: ='Coast Field'!B11 -> MJC | I34: ='Coast Field'!C11 -> 5 | J34: ='Coast Field'!E11 -> 0 | K34: =J34/I34 -> 0 | M34: ='Coast Field'!A27 -> Chris Buckman | N34: ='Coast Field'!B27 -> LPC | O34: ='Los Positas'!D5 -> 14 | P34: ='Coast Field'!F28 -> 0 | Q34: =P34/O34 -> 0
A35: ='Coast Field'!A14 -> Austin Mejias | B35: ='Coast Field'!B14 -> MJC | C35: ='Coast Field'!C14 -> 5 | D35: ='Coast Field'!D14 -> 0 | E35: =D35/C35 -> 0 | G35: ='Coast Field'!A12 -> Tyler Tuss | H35: ='Coast Field'!B12 -> MJC | I35: ='Coast Field'!C12 -> 5 | J35: ='Coast Field'!E12 -> 0 | K35: =J35/I35 -> 0 | M35: ='Coast Field'!A29 -> Ryan Hogue | N35: ='Coast Field'!B29 -> LPC | O35: ='Los Positas'!D7 -> 15 | P35: ='Coast Field'!F30 -> 0 | Q35: =P35/O35 -> 0
A36: ='Coast Field'!A18 -> Macias, Alejandro | B36: ='Coast Field'!B18 -> OHLON | C36: ='Coast Field'!C18 -> 0 | D36: ='Coast Field'!D18 -> 0 | E36: =D36/C36 -> #DIV/0! | G36: ='Coast Field'!A14 -> Austin Mejias | H36: ='Coast Field'!B14 -> MJC | I36: ='Coast Field'!C14 -> 5 | J36: ='Coast Field'!E14 -> 0 | K36: =J36/I36 -> 0 | M36: ='Coast Field'!A30 -> Mike Morruza | N36: ='Coast Field'!B30 -> LPC | O36: ='Los Positas'!D8 -> 0 | P36: ='Coast Field'!F31 -> 0 | Q36: =P36/O36 -> #DIV/0!
A37: ='Coast Field'!A26 -> Max Federle (Also 1-A) | B37: ='Coast Field'!B26 -> LPC | C37: ='Los Positas'!D4 -> 8 | D37: ='Los Positas'!E4 -> 0 | E37: =D37/C37 -> 0 | G37: ='Coast Field'!A18 -> Macias, Alejandro | H37: ='Coast Field'!B18 -> OHLON | I37: ='Coast Field'!C18 -> 0 | J37: ='Coast Field'!E18 -> 0 | K37: =J37/I37 -> #DIV/0! | M37: ='Coast Field'!A33 -> Liam McDonald | N37: ='Coast Field'!B33 -> LPC | O37: ='Los Positas'!D11 -> 10 | P37: ='Coast Field'!F34 -> 0 | Q37: =P37/O37 -> 0
A38: ='Coast Field'!A30 -> Mike Morruza | B38: ='Coast Field'!B30 -> LPC | C38: ='Los Positas'!D8 -> 0 | D38: ='Los Positas'!E8 -> 0 | E38: =D38/C38 -> #DIV/0! | G38: ='Coast Field'!A20 -> Correa, Eric | H38: ='Coast Field'!B20 -> OHLON | I38: ='Coast Field'!C20 -> 5 | J38: ='Coast Field'!E20 -> 0 | K38: =J38/I38 -> 0 | M38: ='Coast Field'!A34 -> Erik Lundeen | N38: ='Coast Field'!B34 -> LPC | O38: ='Los Positas'!D12 -> 11 | P38: ='Coast Field'!F35 -> 0 | Q38: =P38/O38 -> 0
A39: ='Coast Field'!A31 -> Cam Bushehry | B39: ='Coast Field'!B31 -> LPC | C39: ='Los Positas'!D9 -> 11 | D39: ='Los Positas'!E9 -> 0 | E39: =D39/C39 -> 0 | G39: ='Coast Field'!A21 -> Bock, Brian | H39: ='Coast Field'!B21 -> OHLON | I39: ='Coast Field'!C21 -> 5 | J39: ='Coast Field'!E21 -> 0 | K39: =J39/I39 -> 0 | M39: ='Coast Field'!A36 -> Pasquale D'Onofrio | N39: ='Coast Field'!B36 -> LPC | O39: ='Los Positas'!D14 -> 15 | P39: ='Coast Field'!F37 -> 0 | Q39: =P39/O39 -> 0
A40: ='Coast Field'!A39 -> Andrew Long Kettenhofen | B40: ='Coast Field'!B39 -> LPC | C40: ='Los Positas'!D17 -> 0 | D40: ='Los Positas'!E17 -> 0 | E40: =D40/C40 -> #DIV/0! | G40: ='Coast Field'!A30 -> Mike Morruza | H40: ='Coast Field'!B30 -> LPC | I40: ='Coast Field'!C30 -> 0 | J40: ='Coast Field'!E30 -> 0 | K40: =J40/I40 -> #DIV/0! | M40: ='Coast Field'!A40 -> Cole Melloch | N40: ='Coast Field'!B40 -> LPC | O40: ='Los Positas'!D18 -> 14 | P40: ='Coast Field'!F41 -> 0 | Q40: =P40/O40 -> 0

Sheet Goalie Leaders
A1: Athlete | B1: School | C1: GP | D1: GA | E1: GA/G | G1: Athlete | H1: School | I1: GP | J1: Blocks | K1: B/G
A2: ='Coast Goalie'!A2 -> Badr Fayyaz | B2: ='Coast Goalie'!B2 -> MJC | C2: ='Coast Goalie'!C2 -> 5 | D2: ='Coast Goalie'!D2 -> 54 | E2: =D2/C2 -> 10.8 | G2: ='Coast Goalie'!G4 -> Bock, Brian | H2: ='Coast Goalie'!H4 -> OHLON | I2: ='Coast Goalie'!I4 -> 4 | J2: ='Coast Goalie'!J4 -> 24 | K2: =J2/I2 -> 6
A3: ='Coast Goalie'!A3 -> Zander Newman | B3: ='Coast Goalie'!B3 -> LPC | C3: ='Coast Goalie'!C3 -> 15 | D3: ='Coast Goalie'!D3 -> 255 | E3: =D3/C3 -> 17 | G3: ='Coast Goalie'!G2 -> Badr Fayyaz | H3: ='Coast Goalie'!H2 -> MJC | I3: ='Coast Goalie'!I2 -> 5 | J3: ='Coast Goalie'!J2 -> 40 | K3: =J3/I3 -> 8
A4: ='Coast Goalie'!A4 -> Bock, Brian | B4: ='Coast Goalie'!B4 -> OHLON | C4: ='Coast Goalie'!C4 -> 4 | D4: ='Coast Goalie'!D4 -> 79 | E4: =D4/C4 -> 19.75 | G4: ='Coast Goalie'!G3 -> Zander Newman | H4: ='Coast Goalie'!H3 -> LPC | I4: ='Coast Goalie'!I3 -> 15 | J4: ='Coast Goalie'!J3 -> 174 | K4: =J4/I4 -> 11.6

Sheet Coast Field
A1: Athlete | B1: School | C1: GP | D1: GLS | E1: AST | F1: STL | G1: G/G | H1: A/G | I1: S/G
A2: =Merced!B3 -> Chad Nunes | B2: =Merced!C3 -> MJC | C2: =Merced!D3 -> 5 | D2: =Merced!E3 -> 10 | E2: =Merced!F3 -> 2 | F2: =Merced!G3 -> 4 | G2: =Merced!H3 -> 2 | H2: =Merced!I3 -> 0.4 | I2: =Merced!J3 -> 0.8
A3: =Merced!B4 -> Mitchell Moreda | B3: =Merced!C4 -> MJC | C3: =Merced!D4 -> 5 | D3: =Merced!E4 -> 11 | E3: =Merced!F4 -> 9 | F3: =Merced!G4 -> 6 | G3: =Merced!H4 -> 2.2 | H3: =Merced!I4 -> 1.8 | I3: =Merced!J4 -> 1.2
A4: =Merced!B5 -> Kyle Swisegood | B4: =Merced!C5 -> MJC | C4: =Merced!D5 -> 5 | D4: =Merced!E5 -> 1 | E4: =Merced!F5 -> 2 | F4: =Merced!G5 -> 8 | G4: =Merced!H5 -> 0.2 | H4: =Merced!I5 -> 0.4 | I4: =Merced!J5 -> 1.6
A5: =Merced!B6 -> Blake Philips | B5: =Merced!C6 -> MJC | C5: =Merced!D6 -> 5 | D5: =Merced!E6 -> 18 | E5: =Merced!F6 -> 2 | F5: =Merced!G6 -> 2 | G5: =Merced!H6 -> 3.6 | H5: =Merced!I6 -> 0.4 | I5: =Merced!J6 -> 0.4
A6: =Merced!B7 -> CJ Cossey | B6: =Merced!C7 -> MJC | C6: =Merced!D7 -> 5 | D6: =Merced!E7 -> 6 | E6: =Merced!F7 -> 0 | F6: =Merced!G7 -> 0 | G6: =Merced!H7 -> 1.2 | H6: =Merced!I7 -> 0 | I6: =Merced!J7 -> 0
A7: =Merced!B8 -> Kody Kamastra | B7: =Merced!C8 -> MJC | C7: =Merced!D8 -> 5 | D7: =Merced!E8 -> 5 | E7: =Merced!F8 -> 6 | F7: =Merced!G8 -> 8 | G7: =Merced!H8 -> 1 | H7: =Merced!I8 -> 1.2 | I7: =Merced!J8 -> 1.6
A8: =Merced!B9 -> Mike Fuzie | B8: =Merced!C9 -> MJC | C8: =Merced!D9 -> 5 | D8: =Merced!E9 -> 0 | E8: =Merced!F9 -> 1 | F8: =Merced!G9 -> 1 | G8: =Merced!H9 -> 0 | H8: =Merced!I9 -> 0.2 | I8: =Merced!J9 -> 0.2
A9: =Merced!B10 -> Matt Cadrett | B9: =Merced!C10 -> MJC | C9: =Merced!D10 -> 5 | D9: =Merced!E10 -> 3 | E9: =Merced!F10 -> 5 | F9: =Merced!G10 -> 1 | G9: =Merced!H10 -> 0.6 | H9: =Merced!I10 -> 1 | I9: =Merced!J10 -> 0.2
A10: =Merced!B11 -> Luis Rodriguez | B10: =Merced!C11 -> MJC | C10: =Merced!D11 -> 5 | D10: =Merced!E11 -> 0 | E10: =Merced!F11 -> 1 | F10: =Merced!G11 -> 1 | G10: =Merced!H11 -> 0 | H10: =Merced!I11 -> 0.2 | I10: =Merced!J11 -> 0.2
A11: =Merced!B12 -> Cameron Sondeno | B11: =Merced!C12 -> MJC | C11: =Merced!D12 -> 5 | D11: =Merced!E12 -> 1 | E11: =Merced!F12 -> 0 | F11: =Merced!G12 -> 1 | G11: =Merced!H12 -> 0.2 | H11: =Merced!I12 -> 0 | I11: =Merced!J12 -> 0.2
A12: =Merced!B13 -> Tyler Tuss | B12: =Merced!C13 -> MJC | C12: =Merced!D13 -> 5 | D12: =Merced!E13 -> 0 | E12: =Merced!F13 -> 0 | F12: =Merced!G13 -> 0 | G12: =Merced!H13 -> 0 | H12: =Merced!I13 -> 0 | I12: =Merced!J13 -> 0
A13: =Merced!B14 -> Marcelino Ramirez | B13: =Merced!C14 -> MJC | C13: =Merced!D14 -> 5 | D13: =Merced!E14 -> 1 | E13: =Merced!F14 -> 2 | F13: =Merced!G14 -> 3 | G13: =Merced!H14 -> 0.2 | H13: =Merced!I14 -> 0.4 | I13: =Merced!J14 -> 0.6
A14: =Merced!B15 -> Austin Mejias | B14: =Merced!C15 -> MJC | C14: =Merced!D15 -> 5 | D14: =Merced!E15 -> 0 | E14: =Merced!F15 -> 0 | F14: =Merced!G15 -> 0 | G14: =Merced!H15 -> 0 | H14: =Merced!I15 -> 0 | I14: =Merced!J15 -> 0
A15: =Ohlone!B3 -> Kelbr, Preston | B15: =Ohlone!C3 -> OHLON | C15: =Ohlone!D3 -> 5 | D15: =Ohlone!E3 -> 4 | E15: =Ohlone!F3 -> 2 | F15: =Ohlone!G3 -> 10 | G15: =Ohlone!H3 -> 0.8 | H15: =Ohlone!I3 -> 0.4 | I15: =Ohlone!J3 -> 2
A16: =Ohlone!B4 -> Sadat, Walid | B16: =Ohlone!C4 -> OHLON | C16: =Ohlone!D4 -> 1 | D16: =Ohlone!E4 -> 9 | E16: =Ohlone!F4 -> 3 | F16: =Ohlone!G4 -> 0 | G16: =Ohlone!H4 -> 9 | H16: =Ohlone!I4 -> 3 | I16: =Ohlone!J4 -> 0
A17: =Ohlone!B5 -> Carscadden, Wyatt | B17: =Ohlone!C5 -> OHLON | C17: =Ohlone!D5 -> 4 | D17: =Ohlone!E5 -> 38 | E17: =Ohlone!F5 -> 12 | F17: =Ohlone!G5 -> 9 | G17: =Ohlone!H5 -> 9.5 | H17: =Ohlone!I5 -> 3 | I17: =Ohlone!J5 -> 2.25
A18: =Ohlone!B6 -> Macias, Alejandro | B18: =Ohlone!C6 -> OHLON | C18: =Ohlone!D6 -> 0 | D18: =Ohlone!E6 -> 0 | E18: =Ohlone!F6 -> 0 | F18: =Ohlone!G6 -> 0 | G18: =Ohlone!H6 -> #DIV/0! | H18: =Ohlone!I6 -> #DIV/0! | I18: =Ohlone!J6 -> #DIV/0!
A19: =Ohlone!B7 -> Carrerio, Carlos | B19: =Ohlone!C7 -> OHLON | C19: =Ohlone!D7 -> 4 | D19: =Ohlone!E7 -> 3 | E19: =Ohlone!F7 -> 1 | F19: =Ohlone!G7 -> 3 | G19: =Ohlone!H7 -> 0.75 | H19: =Ohlone!I7 -> 0.25 | I19: =Ohlone!J7 -> 0.75
A20: =Ohlone!B8 -> Correa, Eric | B20: =Ohlone!C8 -> OHLON | C20: =Ohlone!D8 -> 5 | D20: =Ohlone!E8 -> 2 | E20: =Ohlone!F8 -> 0 | F20: =Ohlone!G8 -> 2 | G20: =Ohlone!H8 -> 0.4 | H20: =Ohlone!I8 -> 0 | I20: =Ohlone!J8 -> 0.4
A21: =Ohlone!B9 -> Bock, Brian | B21: =Ohlone!C9 -> OHLON | C21: =Ohlone!D9 -> 5 | D21: =Ohlone!E9 -> 11 | E21: =Ohlone!F9 -> 0 | F21: =Ohlone!G9 -> 1 | G21: =Ohlone!H9 -> 2.2 | H21: =Ohlone!I9 -> 0 | I21: =Ohlone!J9 -> 0.2
A22: =Ohlone!B10 -> Dayal, Rahul | B22: =Ohlone!C10 -> OHLON | C22: =Ohlone!D10 -> 5 | D22: =Ohlone!E10 -> 1 | E22: =Ohlone!F10 -> 2 | F22: =Ohlone!G10 -> 4 | G22: =Ohlone!H10 -> 0.2 | H22: =Ohlone!I10 -> 0.4 | I22: =Ohlone!J10 -> 0.8
A23: =Ohlone!B11 -> Lucchesi, Matt | B23: =Ohlone!C11 -> OHLON | C23: =Ohlone!D11 -> 5 | D23: =Ohlone!E11 -> 10 | E23: =Ohlone!F11 -> 1 | F23: =Ohlone!G11 -> 9 | G23: =Ohlone!H11 -> 2 | H23: =Ohlone!I11 -> 0.2 | I23: =Ohlone!J11 -> 1.8
A24: =Ohlone!B12 -> Haley, Austin | B24: =Ohlone!C12 -> OHLON | C24: =Ohlone!D12 -> 5 | D24: =Ohlone!E12 -> 18 | E24: =Ohlone!F12 -> 3 | F24: =Ohlone!G12 -> 5 | G24: =Ohlone!H12 -> 3.6 | H24: =Ohlone!I12 -> 0.6 | I24: =Ohlone!J12 -> 1
A25: ='Los Positas'!B3 -> Jeremy Usedom | B25: ='Los Positas'!C3 -> LPC | C25: ='Los Positas'!D3 -> 14 | D25: ='Los Positas'!E3 -> 39 | E25: ='Los Positas'!F3 -> 25 | F25: ='Los Positas'!G3 -> 8 | G25: ='Los Positas'!H3 -> 2.7857143 | H25: ='Los Positas'!I3 -> 1.7857143 | I25: ='Los Positas'!J3 -> 0.57142857
A26: ='Los Positas'!B4 -> Max Federle (Also 1-A) | B26: ='Los Positas'!C4 -> LPC | C26: ='Los Positas'!D4 -> 8 | D26: ='Los Positas'!E4 -> 0 | E26: ='Los Positas'!F4 -> 1 | F26: ='Los Positas'!G4 -> 0 | G26: ='Los Positas'!H4 -> 0 | H26: ='Los Positas'!I4 -> 0.125 | I26: ='Los Positas'!J4 -> 0
A27: ='Los Positas'!B5 -> Chris Buckman | B27: ='Los Positas'!C5 -> LPC | C27: ='Los Positas'!D5 -> 14 | D27: ='Los Positas'!E5 -> 21 | E27: ='Los Positas'!F5 -> 7 | F27: ='Los Positas'!G5 -> 1 | G27: ='Los Positas'!H5 -> 1.5 | H27: ='Los Positas'!I5 -> 0.5 | I27: ='Los Positas'!J5 -> 0.071428571
A28: ='Los Positas'!B6 -> Jared Benge | B28: ='Los Positas'!C6 -> LPC | C28: ='Los Positas'!D6 -> 12 | D28: ='Los Positas'!E6 -> 6 | E28: ='Los Positas'!F6 -> 2 | F28: ='Los Positas'!G6 -> 0 | G28: ='Los Positas'!H6 -> 0.5 | H28: ='Los Positas'!I6 -> 0.16666667 | I28: ='Los Positas'!J6 -> 0
A29: ='Los Positas'!B7 -> Ryan Hogue | B29: ='Los Positas'!C7 -> LPC | C29: ='Los Positas'!D7 -> 15 | D29: ='Los Positas'!E7 -> 1 | E29: ='Los Positas'!F7 -> 2 | F29: ='Los Positas'!G7 -> 2 | G29: ='Los Positas'!H7 -> 0.066666667 | H29: ='Los Positas'!I7 -> 0.13333333 | I29: ='Los Positas'!J7 -> 0.13333333
A30: ='Los Positas'!B8 -> Mike Morruza | B30: ='Los Positas'!C8 -> LPC | C30: ='Los Positas'!D8 -> 0 | D30: ='Los Positas'!E8 -> 0 | E30: ='Los Positas'!F8 -> 0 | F30: ='Los Positas'!G8 -> 0 | G30: ='Los Positas'!H8 -> #DIV/0! | H30: ='Los Positas'!I8 -> #DIV/0! | I30: ='Los Positas'!J8 -> #DIV/0!
A31: ='Los Positas'!B9 -> Cam Bushehry | B31: ='Los Positas'!C9 -> LPC | C31: ='Los Positas'!D9 -> 11 | D31: ='Los Positas'!E9 -> 0 | E31: ='Los Positas'!F9 -> 1 | F31: ='Los Positas'!G9 -> 0 | G31: ='Los Positas'!H9 -> 0 | H31: ='Los Positas'!I9 -> 0.090909091 | I31: ='Los Positas'!J9 -> 0
A32: ='Los Positas'!B10 -> Sasha Lazzerereschi | B32: ='Los Positas'!C10 -> LPC | C32: ='Los Positas'!D10 -> 15 | D32: ='Los Positas'!E10 -> 57 | E32: ='Los Positas'!F10 -> 6 | F32: ='Los Positas'!G10 -> 19 | G32: ='Los Positas'!H10 -> 3.8 | H32: ='Los Positas'!I10 -> 0.4 | I32: ='Los Positas'!J10 -> 1.2666667
A33: ='Los Positas'!B11 -> Liam McDonald | B33: ='Los Positas'!C11 -> LPC | C33: ='Los Positas'!D11 -> 10 | D33: ='Los Positas'!E11 -> 1 | E33: ='Los Positas'!F11 -> 1 | F33: ='Los Positas'!G11 -> 1 | G33: ='Los Positas'!H11 -> 0.1 | H33: ='Los Positas'!I11 -> 0.1 | I33: ='Los Positas'!J11 -> 0.1
A34: ='Los Positas'!B12 -> Erik Lundeen | B34: ='Los Positas'!C12 -> LPC | C34: ='Los Positas'!D12 -> 11 | D34: ='Los Positas'!E12 -> 1 | E34: ='Los Positas'!F12 -> 1 | F34: ='Los Positas'!G12 -> 0 | G34: ='Los Positas'!H12 -> 0.090909091 | H34: ='Los Positas'!I12 -> 0.090909091 | I34: ='Los Positas'!J12 -> 0
A35: ='Los Positas'!B13 -> Stephen Redman | B35: ='Los Positas'!C13 -> LPC | C35: ='Los Positas'!D13 -> 13 | D35: ='Los Positas'!E13 -> 2 | E35: ='Los Positas'!F13 -> 1 | F35: ='Los Positas'!G13 -> 0 | G35: ='Los Positas'!H13 -> 0.15384615 | H35: ='Los Positas'!I13 -> 0.076923077 | I35: ='Los Positas'!J13 -> 0
A36: ='Los Positas'!B14 -> Pasquale D'Onofrio | B36: ='Los Positas'!C14 -> LPC | C36: ='Los Positas'!D14 -> 15 | D36: ='Los Positas'!E14 -> 3 | E36: ='Los Positas'!F14 -> 3 | F36: ='Los Positas'!G14 -> 1 | G36: ='Los Positas'!H14 -> 0.2 | H36: ='Los Positas'!I14 -> 0.2 | I36: ='Los Positas'!J14 -> 0.066666667
... A38: ='Los Positas'!B16 -> Carlos Moreno | B38: ='Los Positas'!C16 -> LPC | C38: ='Los Positas'!D16 -> 15 | D38: ='Los Positas'!E16 -> 2 | E38: ='Los Positas'!F16 -> 2 | F38: ='Los Positas'!G16 -> 4 | G38: ='Los Positas'!H16 -> 0.13333333 | H38: ='Los Positas'!I16 -> 0.13333333 | I38: ='Los Positas'!J16 -> 0.26666667
A39: ='Los Positas'!B18 -> Andrew Long Kettenhofen | B39: ='Los Positas'!C18 -> LPC | C39: ='Los Positas'!D18 -> 14 | D39: ='Los Positas'!E18 -> 28 | E39: ='Los Positas'!F18 -> 19 | F39: ='Los Positas'!G18 -> 6 | G39: ='Los Positas'!H18 -> 2 | H39: ='Los Positas'!I18 -> 1.3571429 | I39: ='Los Positas'!J18 -> 0.42857143
A40: ='Los Positas'!B19 -> Cole Melloch | B40: ='Los Positas'!C19 -> LPC | C40: ='Los Positas'!D19 -> 15 | D40: ='Los Positas'!E19 -> 3 | E40: ='Los Positas'!F19 -> 17 | F40: ='Los Positas'!G19 -> 1 | G40: ='Los Positas'!H19 -> 0.2 | H40: ='Los Positas'!I19 -> 1.1333333 | I40: ='Los Positas'!J19 -> 0.066666667

Sheet Coast Goalie
A1: Athlete | B1: School | C1: GP | D1: GA | E1: GA/G | G1: Athlete | H1: School | I1: GP | J1: Blocks | K1: B/G
A2: =Merced!B32 -> Badr Fayyaz | B2: =Merced!C32 -> MJC | C2: =Merced!D32 -> 5 | D2: =Merced!E32 -> 54 | E2: =D2/C2 -> 10.8 | G2: =Merced!B32 -> Badr Fayyaz | H2: =Merced!C32 -> MJC | I2: =Merced!D32 -> 5 | J2: =Merced!F32 -> 40 | K2: =J2/I2 -> 8
A3: ='Los Positas'!B32 -> Zander Newman | B3: ='Los Positas'!C32 -> LPC | C3: ='Los Positas'!D32 -> 15 | D3: ='Los Positas'!E32 -> 255 | E3: =D3/C3 -> 17 | G3: ='Los Positas'!B32 -> Zander Newman | H3: ='Los Positas'!C32 -> LPC | I3: ='Los Positas'!D32 -> 15 | J3: ='Los Positas'!F32 -> 174 | K3: =J3/I3 -> 11.6
A4: =Ohlone!B32 -> Bock, Brian | B4: =Ohlone!C32 -> OHLON | C4: =Ohlone!D32 -> 4 | D4: =Ohlone!E32 -> 79 | E4: =D4/C4 -> 19.75 | G4: =Ohlone!B32 -> Bock, Brian | H4: =Ohlone!C32 -> OHLON | I4: =Ohlone!D32 -> 4 | J4: =Ohlone!F32 -> 24 | K4: =J4/I4 -> 6

Sheet Merced
A1: FIELD STATS
A2: Cap # | B2: Athlete | C2: School | D2: GP | E2: GLS | F2: AST | G2: STL | H2: G/G | I2: A/G | J2: S/G
A3: 2 | B3: Chad Nunes | C3: MJC | D3: 5 | E3: 10 | F3: 2 | G3: 4 | H3: =E3/D3 -> 2 | I3: =F3/D3 -> 0.4 | J3: =G3/D3 -> 0.8
A4: 3 | B4: Mitchell Moreda | C4: MJC | D4: 5 | E4: 11 | F4: 9 | G4: 6 | H4: =E4/D4 -> 2.2 | I4: =F4/D4 -> 1.8 | J4: =G4/D4 -> 1.2
A5: 5 | B5: Kyle Swisegood | C5: MJC | D5: 5 | E5: 1 | F5: 2 | G5: 8 | H5: =E5/D5 -> 0.2 | I5: =F5/D5 -> 0.4 | J5: =G5/D5 -> 1.6
A6: 6 | B6: Blake Philips | C6: MJC | D6: 5 | E6: 18 | F6: 2 | G6: 2 | H6: =E6/D6 -> 3.6 | I6: =F6/D6 -> 0.4 | J6: =G6/D6 -> 0.4
A7: 7 | B7: CJ Cossey | C7: MJC | D7: 5 | E7: 6 | F7: 0 | G7: 0 | H7: =E7/D7 -> 1.2 | I7: =F7/D7 -> 0 | J7: =G7/D7 -> 0
A8: 8 | B8: Kody Kamastra | C8: MJC | D8: 5 | E8: 5 | F8: 6 | G8: 8 | H8: =E8/D8 -> 1 | I8: =F8/D8 -> 1.2 | J8: =G8/D8 -> 1.6
A9: 9 | B9: Mike Fuzie | C9: MJC | D9: 5 | E9: 0 | F9: 1 | G9: 1 | H9: =E9/D9 -> 0 | I9: =F9/D9 -> 0.2 | J9: =G9/D9 -> 0.2
A10: 10 | B10: Matt Cadrett | C10: MJC | D10: 5 | E10: 3 | F10: 5 | G10: 1 | H10: =E10/D10 -> 0.6 | I10: =F10/D10 -> 1 | J10: =G10/D10 -> 0.2
A11: 11 | B11: Luis Rodriguez | C11: MJC | D11: 5 | E11: 0 | F11: 1 | G11: 1 | H11: =E11/D11 -> 0 | I11: =F11/D11 -> 0.2 | J11: =G11/D11 -> 0.2
A12: 12 | B12: Cameron Sondeno | C12: MJC | D12: 5 | E12: 1 | F12: 0 | G12: 1 | H12: =E12/D12 -> 0.2 | I12: =F12/D12 -> 0 | J12: =G12/D12 -> 0.2
A13: 13 | B13: Tyler Tuss | C13: MJC | D13: 5 | E13: 0 | F13: 0 | G13: 0 | H13: =E13/D13 -> 0 | I13: =F13/D13 -> 0 | J13: =G13/D13 -> 0
A14: 14 | B14: Marcelino Ramirez | C14: MJC | D14: 5 | E14: 1 | F14: 2 | G14: 3 | H14: =E14/D14 -> 0.2 | I14: =F14/D14 -> 0.4 | J14: =G14/D14 -> 0.6
A15: 15 | B15: Austin Mejias | C15: MJC | D15: 5 | E15: 0 | F15: 0 | G15: 0 | H15: =E15/D15 -> 0 | I15: =F15/D15 -> 0 | J15: =G15/D15 -> 0
H16: =E16/D16 -> #DIV/0! | I16: =F16/D16 -> #DIV/0! | J16: =G16/D16 -> #DIV/0!
H17: =E17/D17 -> #DIV/0! | I17: =F17/D17 -> #DIV/0! | J17: =G17/D17 -> #DIV/0!
H18: =E18/D18 -> #DIV/0! | I18: =F18/D18 -> #DIV/0! | J18: =G18/D18 -> #DIV/0!
H19: =E19/D19 -> #DIV/0! | I19: =F19/D19 -> #DIV/0! | J19: =G19/D19 -> #DIV/0!
H20: =E20/D20 -> #DIV/0! | I20: =F20/D20 -> #DIV/0! | J20: =G20/D20 -> #DIV/0!
H21: =E21/D21 -> #DIV/0! | I21: =F21/D21 -> #DIV/0! | J21: =G21/D21 -> #DIV/0!
H22: =E22/D22 -> #DIV/0! | I22: =F22/D22 -> #DIV/0! | J22: =G22/D22 -> #DIV/0!
H23: =E23/D23 -> #DIV/0! | I23: =F23/D23 -> #DIV/0! | J23: =G23/D23 -> #DIV/0!
H24: =E24/D24 -> #DIV/0! | I24: =F24/D24 -> #DIV/0! | J24: =G24/D24 -> #DIV/0!
H25: =E25/D25 -> #DIV/0! | I25: =F25/D25 -> #DIV/0! | J25: =G25/D25 -> #DIV/0!
H26: =E26/D26 -> #DIV/0! | I26: =F26/D26 -> #DIV/0! | J26: =G26/D26 -> #DIV/0!
H27: =E27/D27 -> #DIV/0! | I27: =F27/D27 -> #DIV/0! | J27: =G27/D27 -> #DIV/0!
H28: =E28/D28 -> #DIV/0! | I28: =F28/D28 -> #DIV/0! | J28: =G28/D28 -> #DIV/0!
A30: GOALIE STATS
A31: Cap # | B31: Athlete | C31: School | D31: GP | E31: GA | F31: BLK | G31: GA/G | H31: BL/G
A32: 1 | B32: Badr Fayyaz | C32: MJC | D32: 5 | E32: 54 | F32: 40 | G32: =E32/D32 -> 10.8 | H32: =F32/D32 -> 8
G33: =E33/D33 -> #DIV/0! | H33: =F33/D33 -> #DIV/0!
G34: =E34/D34 -> #DIV/0! | H34: =F34/D34 -> #DIV/0!
G35: =E35/D35 -> #DIV/0! | H35: =F35/D35 -> #DIV/0!

Sheet W. Valley

Sheet Cabrillo

Sheet De Anza

Sheet Los Positas
A1: FIELD STATS
A2: Cap # | B2: Athlete | C2: School | D2: GP | E2: GLS | F2: AST | G2: STL | H2: G/G | I2: A/G | J2: S/G
A3: 2 | B3: Jeremy Usedom | C3: LPC | D3: 14 | E3: 39 | F3: 25 | G3: 8 | H3: 2.7857143 | I3: 1.7857143 | J3: 0.57142857
A4: 3 | B4: Max Federle (Also 1-A) | C4: LPC | D4: 8 | F4: 1 | H4: 0 | I4: 0.125 | J4: 0
A5: 4 | B5: Chris Buckman | C5: LPC | D5: 14 | E5: 21 | F5: 7 | G5: 1 | H5: 1.5 | I5: 0.5 | J5: 0.071428571
A6: 5 | B6: Jared Benge | C6: LPC | D6: 12 | E6: 6 | F6: 2 | H6: 0.5 | I6: 0.16666667 | J6: 0
A7: 6 | B7: Ryan Hogue | C7: LPC | D7: 15 | E7: 1 | F7: 2 | G7: 2 | H7: 0.066666667 | I7: 0.13333333 | J7: 0.13333333
A8: 7 | B8: Mike Morruza | C8: LPC | D8: 0 | H8: #DIV/0! | I8: #DIV/0! | J8: #DIV/0!
A9: 8 | B9: Cam Bushehry | C9: LPC | D9: 11 | F9: 1 | H9: 0 | I9: 0.090909091 | J9: 0
A10: 9 | B10: Sasha Lazzerereschi | C10: LPC | D10: 15 | E10: 57 | F10: 6 | G10: 19 | H10: 3.8 | I10: 0.4 | J10: 1.2666667
A11: 10 | B11: Liam McDonald | C11: LPC | D11: 10 | E11: 1 | F11: 1 | G11: 1 | H11: 0.1 | I11: 0.1 | J11: 0.1
A12: 11 | B12: Erik Lundeen | C12: LPC | D12: 11 | E12: 1 | F12: 1 | H12: 0.090909091 | I12: 0.090909091 | J12: 0
A13: 12 | B13: Stephen Redman | C13: LPC | D13: 13 | E13: 2 | F13: 1 | H13: 0.15384615 | I13: 0.076923077 | J13: 0
A14: 13 | B14: Pasquale D'Onofrio | C14: LPC | D14: 15 | E14: 3 | F14: 3 | G14: 1 | H14: 0.2 | I14: 0.2 | J14: 0.066666667
A15: 14 | B15: Ryan Hobbs | C15: LPC | D15: 12 | E15: 9 | F15: 1 | H15: 0.75 | I15: 0.083333333 | J15: 0
A16: 15 | B16: Carlos Moreno | C16: LPC | D16: 15 | E16: 2 | F16: 2 | G16: 4 | H16: 0.13333333 | I16: 0.13333333 | J16: 0.26666667
A17: 16 | H17: #DIV/0! | I17: #DIV/0! | J17: #DIV/0!
A18: 17 | B18: Andrew Long Kettenhofen | C18: LPC | D18: 14 | E18: 28 | F18: 19 | G18: 6 | H18: 2 | I18: 1.3571429 | J18: 0.42857143
A19: 18 | B19: Cole Melloch | C19: LPC | D19: 15 | E19: 3 | F19: 17 | G19: 1 | H19: 0.2 | I19: 1.1333333 | J19: 0.066666667
H20: =E20/D20 -> #DIV/0! | I20: =F20/D20 -> #DIV/0! | J20: =G20/D20 -> #DIV/0!
H21: =E21/D21 -> #DIV/0! | I21: =F21/D21 -> #DIV/0! | J21: =G21/D21 -> #DIV/0!
H22: =E22/D22 -> #DIV/0! | I22: =F22/D22 -> #DIV/0! | J22: =G22/D22 -> #DIV/0!
H23: =E23/D23 -> #DIV/0! | I23: =F23/D23 -> #DIV/0! | J23: =G23/D23 -> #DIV/0!
H24: =E24/D24 -> #DIV/0! | I24: =F24/D24 -> #DIV/0! | J24: =G24/D24 -> #DIV/0!
H25: =E25/D25 -> #DIV/0! | I25: =F25/D25 -> #DIV/0! | J25: =G25/D25 -> #DIV/0!
H26: =E26/D26 -> #DIV/0! | I26: =F26/D26 -> #DIV/0! | J26: =G26/D26 -> #DIV/0!
H27: =E27/D27 -> #DIV/0! | I27: =F27/D27 -> #DIV/0! | J27: =G27/D27 -> #DIV/0!
H28: =E28/D28 -> #DIV/0! | I28: =F28/D28 -> #DIV/0! | J28: =G28/D28 -> #DIV/0!
A30: GOALIE STATS
A31: Cap # | B31: Athlete | C31: School | D31: GP | E31: GA | F31: BLK | G31: GA/G | H31: BL/G
A32: 1 | B32: Zander Newman | C32: LPC | D32: 15 | E32: 255 | F32: 174 | G32: 17 | H32: 11.6
A33: 1-A | B33: Max Federle (Also # 3) | C33: LPC | D33: 0 | G33: #DIV/0! | H33: #DIV/0!
G34: =E34/D34 -> #DIV/0! | H34: =F34/D34 -> #DIV/0!
G35: =E35/D35 -> #DIV/0! | H35: =F35/D35 -> #DIV/0!

Sheet Ohlone
A1: FIELD STATS for Ohlone mens Polo Week 1
A2: Cap # | B2: Athlete | C2: School | D2: GP | E2: GLS | F2: AST | G2: STL | H2: G/G | I2: A/G | J2: S/G
A3: 2 | B3: Kelbr, Preston | C3: OHLON | D3: 5 | E3: 4 | F3: 2 | G3: 10 | H3: 0.8 | I3: 0.4 | J3: 2
A4: 4 | B4: Sadat, Walid | C4: OHLON | D4: 1 | E4: 9 | F4: 3 | G4: 0 | H4: 9 | I4: 3 | J4: 0
A5: 5 | B5: Carscadden, Wyatt | C5: OHLON | D5: 4 | E5: 38 | F5: 12 | G5: 9 | H5: 9.5 | I5: 3 | J5: 2.25
A6: 6 | B6: Macias, Alejandro | C6: OHLON | D6: 0 | H6: #DIV/0! | I6: #DIV/0! | J6: #DIV/0!
A7: 7 | B7: Carrerio, Carlos | C7: OHLON | D7: 4 | E7: 3 | F7: 1 | G7: 3 | H7: 0.75 | I7: 0.25 | J7: 0.75
A8: 10 | B8: Correa, Eric | C8: OHLON | D8: 5 | E8: 2 | F8: 0 | G8: 2 | H8: 0.4 | I8: 0 | J8: 0.4
A9: 11 | B9: Bock, Brian | C9: OHLON | D9: 5 | E9: 11 | F9: 0 | G9: 1 | H9: 2.2 | I9: 0 | J9: 0.2
A10: 12 | B10: Dayal, Rahul | C10: OHLON | D10: 5 | E10: 1 | F10: 2 | G10: 4 | H10: 0.2 | I10: 0.4 | J10: 0.8
A11: 16 | B11: Lucchesi, Matt | C11: OHLON | D11: 5 | E11: 10 | F11: 1 | G11: 9 | H11: 2 | I11: 0.2 | J11: 1.8
A12: 18 | B12: Haley, Austin | C12: OHLON | D12: 5 | E12: 18 | F12: 3 | G12: 5 | H12: 3.6 | I12: 0.6 | J12: 1
H13: #DIV/0! | I13: #DIV/0! | J13: #DIV/0!
H14: #DIV/0! | I14: #DIV/0! | J14: #DIV/0!
H15: #DIV/0! | I15: #DIV/0! | J15: #DIV/0!
H16: #DIV/0! | I16: #DIV/0! | J16: #DIV/0!
H17: #DIV/0! | I17: #DIV/0! | J17: #DIV/0!
H18: #DIV/0! | I18: #DIV/0! | J18: #DIV/0!
H19: #DIV/0! | I19: #DIV/0! | J19: #DIV/0!
H20: #DIV/0! | I20: #DIV/0! | J20: #DIV/0!
H21: #DIV/0! | I21: #DIV/0! | J21: #DIV/0!
H22: #DIV/0! | I22: #DIV/0! | J22: #DIV/0!
H23: #DIV/0! | I23: #DIV/0! | J23: #DIV/0!
H24: #DIV/0! | I24: #DIV/0! | J24: #DIV/0!
... H28: #DIV/0! | I28: #DIV/0! | J28: #DIV/0!
A30: GOALIE STATS
A31: Cap # | B31: Athlete | C31: School | D31: GP | E31: GA | F31: BLK | G31: GA/G | H31: BL/G
A32: 1 | B32: Bock, Brian | C32: OHLON | D32: 4 | E32: 79 | F32: 24 | G32: 19.75 | H32: 6
G33: #DIV/0! | H33: #DIV/0!
G34: #DIV/0! | H34: #DIV/0!
G35: #DIV/0! | H35: #DIV/0!
